BEGIN:VCALENDAR
VERSION:2.0
PRODID:-//Kansas811 - ECPv6.15.20//NONSGML v1.0//EN
CALSCALE:GREGORIAN
METHOD:PUBLISH
X-WR-CALNAME:Kansas811
X-ORIGINAL-URL:https://kansas811.com
X-WR-CALDESC:Events for Kansas811
REFRESH-INTERVAL;VALUE=DURATION:PT1H
X-Robots-Tag:noindex
X-PUBLISHED-TTL:PT1H
BEGIN:VTIMEZONE
TZID:America/Chicago
BEGIN:DAYLIGHT
TZOFFSETFROM:-0600
TZOFFSETTO:-0500
TZNAME:CDT
DTSTART:20250309T080000
END:DAYLIGHT
BEGIN:STANDARD
TZOFFSETFROM:-0500
TZOFFSETTO:-0600
TZNAME:CST
DTSTART:20251102T070000
END:STANDARD
BEGIN:DAYLIGHT
TZOFFSETFROM:-0600
TZOFFSETTO:-0500
TZNAME:CDT
DTSTART:20260308T080000
END:DAYLIGHT
BEGIN:STANDARD
TZOFFSETFROM:-0500
TZOFFSETTO:-0600
TZNAME:CST
DTSTART:20261101T070000
END:STANDARD
BEGIN:DAYLIGHT
TZOFFSETFROM:-0600
TZOFFSETTO:-0500
TZNAME:CDT
DTSTART:20270314T080000
END:DAYLIGHT
BEGIN:STANDARD
TZOFFSETFROM:-0500
TZOFFSETTO:-0600
TZNAME:CST
DTSTART:20271107T070000
END:STANDARD
END:VTIMEZONE
BEGIN:VEVENT
DTSTART;TZID=America/Chicago:20260422T000000
DTEND;TZID=America/Chicago:20260424T235959
DTSTAMP:20260422T074543
CREATED:20260324T173227Z
LAST-MODIFIED:20260326T162954Z
UID:1974-1776816000-1777075199@kansas811.com
SUMMARY:2026 Kansas Municipal Utilities Conference
DESCRIPTION:The 2026 KMU Conference brings municipal utility professionals from across Kansas together for three days\, where they will gain practical knowledge\, strengthen professional connections\, and take away ideas that support meaningful impact in their utilities and communities.
URL:https://kansas811.com/event/2026-kansas-municipal-utilities-conference/
LOCATION:Hyatt Regency – Wichita\, 400 W Waterman\, Wichita\, KS\, United States
CATEGORIES:Conference/Expo
ATTACH;FMTTYPE=image/jpeg:https://kansas811.com/wp-content/uploads/2026/03/2026_Conference_webpage_bann.jpg
END:VEVENT
BEGIN:VEVENT
DTSTART;TZID=America/Chicago:20260422T090000
DTEND;TZID=America/Chicago:20260422T100000
DTSTAMP:20260422T074543
CREATED:20260324T171554Z
LAST-MODIFIED:20260331T203356Z
UID:2014-1776848400-1776852000@kansas811.com
SUMMARY:FREE ITICnxt Training Meeting
DESCRIPTION:NXT Online Training is for any online user wanting a live demonstration on how to properly use the one call system. Training will be with an ITIC Representative and will walk through how to use My Tickets and how to correctly submit a one call ticket. Training typically lasts about 20 minutes and is done all online. After signing up for the desired date/time\, a link will then be emailed to the user provided address at meeting time.
URL:https://kansas811.com/event/iticnxt-training-meeting/2026-04-22/
CATEGORIES:Training
ATTACH;FMTTYPE=image/png:https://kansas811.com/wp-content/uploads/2026/03/itic-NXT-Logo-scaled-e1774541120273.png
LOCATION:https://form.jotform.com/260704546367158
END:VEVENT
BEGIN:VEVENT
DTSTART;TZID=America/Chicago:20260422T140000
DTEND;TZID=America/Chicago:20260422T150000
DTSTAMP:20260422T074543
CREATED:20260324T171554Z
LAST-MODIFIED:20260331T203357Z
UID:2015-1776866400-1776870000@kansas811.com
SUMMARY:FREE ITICnxt Training Meeting
DESCRIPTION:NXT Online Training is for any online user wanting a live demonstration on how to properly use the one call system. Training will be with an ITIC Representative and will walk through how to use My Tickets and how to correctly submit a one call ticket. Training typically lasts about 20 minutes and is done all online. After signing up for the desired date/time\, a link will then be emailed to the user provided address at meeting time.
URL:https://kansas811.com/event/iticnxt-training-meeting/2026-04-22/10/
CATEGORIES:Training
ATTACH;FMTTYPE=image/png:https://kansas811.com/wp-content/uploads/2026/03/itic-NXT-Logo-scaled-e1774541120273.png
LOCATION:https://form.jotform.com/260704546367158
END:VEVENT
BEGIN:VEVENT
DTSTART;TZID=America/Chicago:20260423T090000
DTEND;TZID=America/Chicago:20260423T100000
DTSTAMP:20260422T074543
CREATED:20260324T171554Z
LAST-MODIFIED:20260331T203357Z
UID:2016-1776934800-1776938400@kansas811.com
SUMMARY:FREE ITICnxt Training Meeting
DESCRIPTION:NXT Online Training is for any online user wanting a live demonstration on how to properly use the one call system. Training will be with an ITIC Representative and will walk through how to use My Tickets and how to correctly submit a one call ticket. Training typically lasts about 20 minutes and is done all online. After signing up for the desired date/time\, a link will then be emailed to the user provided address at meeting time.
URL:https://kansas811.com/event/iticnxt-training-meeting/2026-04-23/
CATEGORIES:Training
ATTACH;FMTTYPE=image/png:https://kansas811.com/wp-content/uploads/2026/03/itic-NXT-Logo-scaled-e1774541120273.png
LOCATION:https://form.jotform.com/260704546367158
END:VEVENT
BEGIN:VEVENT
DTSTART;TZID=America/Chicago:20260423T140000
DTEND;TZID=America/Chicago:20260423T150000
DTSTAMP:20260422T074543
CREATED:20260324T171554Z
LAST-MODIFIED:20260331T203357Z
UID:2017-1776952800-1776956400@kansas811.com
SUMMARY:FREE ITICnxt Training Meeting
DESCRIPTION:NXT Online Training is for any online user wanting a live demonstration on how to properly use the one call system. Training will be with an ITIC Representative and will walk through how to use My Tickets and how to correctly submit a one call ticket. Training typically lasts about 20 minutes and is done all online. After signing up for the desired date/time\, a link will then be emailed to the user provided address at meeting time.
URL:https://kansas811.com/event/iticnxt-training-meeting/2026-04-23/10/
CATEGORIES:Training
ATTACH;FMTTYPE=image/png:https://kansas811.com/wp-content/uploads/2026/03/itic-NXT-Logo-scaled-e1774541120273.png
LOCATION:https://form.jotform.com/260704546367158
END:VEVENT
BEGIN:VEVENT
DTSTART;TZID=America/Chicago:20260424T090000
DTEND;TZID=America/Chicago:20260424T100000
DTSTAMP:20260422T074543
CREATED:20260324T171554Z
LAST-MODIFIED:20260331T203358Z
UID:2018-1777021200-1777024800@kansas811.com
SUMMARY:FREE ITICnxt Training Meeting
DESCRIPTION:NXT Online Training is for any online user wanting a live demonstration on how to properly use the one call system. Training will be with an ITIC Representative and will walk through how to use My Tickets and how to correctly submit a one call ticket. Training typically lasts about 20 minutes and is done all online. After signing up for the desired date/time\, a link will then be emailed to the user provided address at meeting time.
URL:https://kansas811.com/event/iticnxt-training-meeting/2026-04-24/
CATEGORIES:Training
ATTACH;FMTTYPE=image/png:https://kansas811.com/wp-content/uploads/2026/03/itic-NXT-Logo-scaled-e1774541120273.png
LOCATION:https://form.jotform.com/260704546367158
END:VEVENT
BEGIN:VEVENT
DTSTART;TZID=America/Chicago:20260424T140000
DTEND;TZID=America/Chicago:20260424T150000
DTSTAMP:20260422T074543
CREATED:20260324T171554Z
LAST-MODIFIED:20260331T203358Z
UID:2019-1777039200-1777042800@kansas811.com
SUMMARY:FREE ITICnxt Training Meeting
DESCRIPTION:NXT Online Training is for any online user wanting a live demonstration on how to properly use the one call system. Training will be with an ITIC Representative and will walk through how to use My Tickets and how to correctly submit a one call ticket. Training typically lasts about 20 minutes and is done all online. After signing up for the desired date/time\, a link will then be emailed to the user provided address at meeting time.
URL:https://kansas811.com/event/iticnxt-training-meeting/2026-04-24/10/
CATEGORIES:Training
ATTACH;FMTTYPE=image/png:https://kansas811.com/wp-content/uploads/2026/03/itic-NXT-Logo-scaled-e1774541120273.png
LOCATION:https://form.jotform.com/260704546367158
END:VEVENT
BEGIN:VEVENT
DTSTART;TZID=America/Chicago:20260428T090000
DTEND;TZID=America/Chicago:20260428T100000
DTSTAMP:20260422T074543
CREATED:20260324T171554Z
LAST-MODIFIED:20260331T203358Z
UID:2020-1777366800-1777370400@kansas811.com
SUMMARY:FREE ITICnxt Training Meeting
DESCRIPTION:NXT Online Training is for any online user wanting a live demonstration on how to properly use the one call system. Training will be with an ITIC Representative and will walk through how to use My Tickets and how to correctly submit a one call ticket. Training typically lasts about 20 minutes and is done all online. After signing up for the desired date/time\, a link will then be emailed to the user provided address at meeting time.
URL:https://kansas811.com/event/iticnxt-training-meeting/2026-04-28/
CATEGORIES:Training
ATTACH;FMTTYPE=image/png:https://kansas811.com/wp-content/uploads/2026/03/itic-NXT-Logo-scaled-e1774541120273.png
LOCATION:https://form.jotform.com/260704546367158
END:VEVENT
BEGIN:VEVENT
DTSTART;TZID=America/Chicago:20260428T140000
DTEND;TZID=America/Chicago:20260428T150000
DTSTAMP:20260422T074543
CREATED:20260324T171554Z
LAST-MODIFIED:20260331T203358Z
UID:2021-1777384800-1777388400@kansas811.com
SUMMARY:FREE ITICnxt Training Meeting
DESCRIPTION:NXT Online Training is for any online user wanting a live demonstration on how to properly use the one call system. Training will be with an ITIC Representative and will walk through how to use My Tickets and how to correctly submit a one call ticket. Training typically lasts about 20 minutes and is done all online. After signing up for the desired date/time\, a link will then be emailed to the user provided address at meeting time.
URL:https://kansas811.com/event/iticnxt-training-meeting/2026-04-28/10/
CATEGORIES:Training
ATTACH;FMTTYPE=image/png:https://kansas811.com/wp-content/uploads/2026/03/itic-NXT-Logo-scaled-e1774541120273.png
LOCATION:https://form.jotform.com/260704546367158
END:VEVENT
BEGIN:VEVENT
DTSTART;TZID=America/Chicago:20260429T090000
DTEND;TZID=America/Chicago:20260429T100000
DTSTAMP:20260422T074543
CREATED:20260324T171554Z
LAST-MODIFIED:20260331T203400Z
UID:2022-1777453200-1777456800@kansas811.com
SUMMARY:FREE ITICnxt Training Meeting
DESCRIPTION:NXT Online Training is for any online user wanting a live demonstration on how to properly use the one call system. Training will be with an ITIC Representative and will walk through how to use My Tickets and how to correctly submit a one call ticket. Training typically lasts about 20 minutes and is done all online. After signing up for the desired date/time\, a link will then be emailed to the user provided address at meeting time.
URL:https://kansas811.com/event/iticnxt-training-meeting/2026-04-29/
CATEGORIES:Training
ATTACH;FMTTYPE=image/png:https://kansas811.com/wp-content/uploads/2026/03/itic-NXT-Logo-scaled-e1774541120273.png
LOCATION:https://form.jotform.com/260704546367158
END:VEVENT
BEGIN:VEVENT
DTSTART;TZID=America/Chicago:20260429T140000
DTEND;TZID=America/Chicago:20260429T150000
DTSTAMP:20260422T074543
CREATED:20260324T171554Z
LAST-MODIFIED:20260331T203400Z
UID:2023-1777471200-1777474800@kansas811.com
SUMMARY:FREE ITICnxt Training Meeting
DESCRIPTION:NXT Online Training is for any online user wanting a live demonstration on how to properly use the one call system. Training will be with an ITIC Representative and will walk through how to use My Tickets and how to correctly submit a one call ticket. Training typically lasts about 20 minutes and is done all online. After signing up for the desired date/time\, a link will then be emailed to the user provided address at meeting time.
URL:https://kansas811.com/event/iticnxt-training-meeting/2026-04-29/10/
CATEGORIES:Training
ATTACH;FMTTYPE=image/png:https://kansas811.com/wp-content/uploads/2026/03/itic-NXT-Logo-scaled-e1774541120273.png
LOCATION:https://form.jotform.com/260704546367158
END:VEVENT
BEGIN:VEVENT
DTSTART;TZID=America/Chicago:20260430T090000
DTEND;TZID=America/Chicago:20260430T100000
DTSTAMP:20260422T074543
CREATED:20260324T171554Z
LAST-MODIFIED:20260331T203401Z
UID:2024-1777539600-1777543200@kansas811.com
SUMMARY:FREE ITICnxt Training Meeting
DESCRIPTION:NXT Online Training is for any online user wanting a live demonstration on how to properly use the one call system. Training will be with an ITIC Representative and will walk through how to use My Tickets and how to correctly submit a one call ticket. Training typically lasts about 20 minutes and is done all online. After signing up for the desired date/time\, a link will then be emailed to the user provided address at meeting time.
URL:https://kansas811.com/event/iticnxt-training-meeting/2026-04-30/
CATEGORIES:Training
ATTACH;FMTTYPE=image/png:https://kansas811.com/wp-content/uploads/2026/03/itic-NXT-Logo-scaled-e1774541120273.png
LOCATION:https://form.jotform.com/260704546367158
END:VEVENT
BEGIN:VEVENT
DTSTART;TZID=America/Chicago:20260430T110000
DTEND;TZID=America/Chicago:20260430T150000
DTSTAMP:20260422T074543
CREATED:20260324T173639Z
LAST-MODIFIED:20260324T173639Z
UID:1977-1777546800-1777561200@kansas811.com
SUMMARY:First Responders Appreciation Lunch
DESCRIPTION:Join Us as We Honor Those Who Serve Our Community! \nIt’s YOUR day — and we’re firing up the grill to celebrate YOU!! \nHamburgers & Hot Dogs with All the fixings & sides \nRaffle prizes & Cornhole \nWe appreciate your courage\, your commitment\, and everything you do for our community. Stop by\, grab a plate\, and let us serve YOU for a change!
URL:https://kansas811.com/event/first-responders-appreciation-lunch/
LOCATION:614 W. Main Street\, Gardner\, KS 66030.\, 614 W. Main Street\, Gardner\, KS\, 66030\, United States
CATEGORIES:Event
END:VEVENT
BEGIN:VEVENT
DTSTART;TZID=America/Chicago:20260430T140000
DTEND;TZID=America/Chicago:20260430T150000
DTSTAMP:20260422T074543
CREATED:20260324T171554Z
LAST-MODIFIED:20260331T203401Z
UID:2025-1777557600-1777561200@kansas811.com
SUMMARY:FREE ITICnxt Training Meeting
DESCRIPTION:NXT Online Training is for any online user wanting a live demonstration on how to properly use the one call system. Training will be with an ITIC Representative and will walk through how to use My Tickets and how to correctly submit a one call ticket. Training typically lasts about 20 minutes and is done all online. After signing up for the desired date/time\, a link will then be emailed to the user provided address at meeting time.
URL:https://kansas811.com/event/iticnxt-training-meeting/2026-04-30/10/
CATEGORIES:Training
ATTACH;FMTTYPE=image/png:https://kansas811.com/wp-content/uploads/2026/03/itic-NXT-Logo-scaled-e1774541120273.png
LOCATION:https://form.jotform.com/260704546367158
END:VEVENT
END:VCALENDAR